BEGIN:VCALENDAR
VERSION:2.0
PRODID:-//ExpressionEngine Easy iCalendar plugin//NONSGML v2.0.1//EN
X-WR-TIMEZONE:America/New_York
X-WR-CALNAME:Upcoming Auctions
BEGIN:VEVENT
UID:108082
DTSTAMP:20231102T110000
DTSTART:20231102T110000
DTEND:20231102T120000
SUMMARY:Private 195-Acre Oasis in Lunenburg County
LOCATION:N. of Kings Road\, Green Bay\, VA 23942\, US
DESCRIPTION:Schedule Your UTV Tour Today. Live and Phone Bidding Availab
 le
URL:https://www.doublea.auction/auctions/detail/bw108082
SEQUENCE:1
END:VEVENT
END:VCALENDAR